Workbook

Sheet RELACION
A2: NO. | B2: NOMBRE | C2: PUESTO | D2: GENERO
A3: 1 | B3: JESUS PLACIDO RODRIGUEZ TREVIÑO | C3: PRESIDENTE MUNICIPAL | D3: H | F3: HOMBRES | G3: 66
A4: 2 | B4: MARIBEL PEREZ PADILLA | C4: REGIDORES | D4: M | F4: MUJERES | G4: 37
A5: 3 | B5: RAMIRO PRUNEDA GONZALEZ | C5: REGIDORES | D5: H | F5: TOTAL | G5: =+G3+G4 -> 103
A6: 4 | B6: VERONICA CRUZ GUERRA | C6: REGIDORES | D6: M
A7: 5 | B7: VENISTIANO FLORES GARCIA | C7: REGIDORES | D7: H
A8: 6 | B8: DOLORES CANTU SUAREZ | C8: REGIDORES | D8: M
A9: 7 | B9: ARACELY GONZALEZ GARZA | C9: REGIDORES | D9: M
A10: 8 | B10: MAYRA LOPEZ HERNANDEZ | C10: PRESIDENTA DEL DIF MUNICIPAL | D10: M
A11: 9 | B11: CARMEN JUDITH VAZQUEZ RODRIGUEZ | C11: DIRECCION DEL DIF MUNICIPAL | D11: M
A12: 10 | B12: YAZMIN GUADALUPE TREJO MORENO | C12: CORDINADOR DE INST. DE LA JUVENTUD | D12: M
A13: 11 | B13: YASMIN RODRIGUEZ CERDA | C13: ENTRENADORA | D13: M
A14: 12 | B14: MARIA CASTILLO PEÑA | C14: AUX DIF | D14: M
A15: 13 | B15: YESSICA MARISOL GARCIA MARTINEZ | C15: AUX DIF | D15: M
A16: 14 | B16: MARIA NANCY CARDENAS ALVARADO | C16: DOCTORA DE CLINICA MUNICIPAL | D16: M
A17: 15 | B17: DANIELA SARAHY GUAJARDO DE LA ROSA | C17: SECRETARIA DE CLINICA MUNICIPAL | D17: M
... A105: 117 | B105: LUIS FRANCISCO OCHOA PEREZ | C105: DIRECCION DE DESARROLLO URBANO Y ECOLOGIA | D105: H

Sheet ORGANIGRAMA
R2: =+RELACION!C3 -> PRESIDENTE MUNICIPAL
R3: =+RELACION!B3 -> JESUS PLACIDO RODRIGUEZ TREVIÑO
M8: =+RELACION!C4 -> REGIDORES | O8: =+RELACION!C51 -> ASESOR POLITICO | V8: =+RELACION!C21 -> SECRETARIA DEL AYUNTAMIENTO
M9: =+RELACION!B4 -> MARIBEL PEREZ PADILLA | O9: =+RELACION!B51 -> ANTONIO BACCA BUENTELLO | V9: =+RELACION!B21 -> ANGEL CARDONA AREGUILLN | X9: =+RELACION!C43 -> SISTEMAS | Z9: =+RELACION!C32 -> ENCARGADA DE INTENDENCIA | AB9: =+RELACION!C77 -> VELADORES | AE9: =+RELACION!C22 -> CHOFERES ESCOLARES | AG9: =+RELACION!C74 -> PENSIONADO
M10: =+RELACION!B5 -> RAMIRO PRUNEDA GONZALEZ | X10: =+RELACION!B43 -> JUAN HERNANDEZ MARTINEZ | Z10: =+RELACION!B32 -> MARIA IMELDA GARZA DE LA CRUZ | AB10: =+RELACION!B77 -> DIUVAN JORDAN ARAUJO RUBIO | AE10: =+RELACION!B22 -> LUIS GARZA LUCIO | AG10: =+RELACION!B74 -> MATILDE ORTIZ MOYA
M11: =+RELACION!B6 -> VERONICA CRUZ GUERRA | T11: =+RELACION!C26 -> SECRETARIA DE PRECIDENCIA | V11: =+RELACION!C27 -> SECRETARIA DEL SECRETARIO | X11: =+RELACION!B57 -> LEA SARAHI ZUÑIGA ACOSTA | AB11: =+RELACION!B82 -> NAZARET ARAUJO RUBIO | AE11: =+RELACION!B23 -> JOSE GUADALUPE CRUZ OCHOA | AG11: =+RELACION!B98 -> ROBERTO CANTU CANTU
M12: =+RELACION!B7 -> VENISTIANO FLORES GARCIA | O12: =+RELACION!C52 -> ASESOR JURIDICO | T12: =+RELACION!B26 -> NANCY VERONICA SALAZAR LOPEZ | V12: =+RELACION!B27 -> ARLYN AHTZIRI LOPEZ GARZA | Z12: =+RELACION!C28 -> INTENDENTES | AB12: =+RELACION!B88 -> GILBERTO RODRIGUEZ CANO | AE12: =+RELACION!B24 -> BENJAMIN NEVAREZ GONZALEZ | AG12: =+RELACION!B100 -> LIBERATO CANTU CANTU
M13: =+RELACION!B8 -> DOLORES CANTU SUAREZ | O13: =+RELACION!B52 -> LIC. FRANCISCO DE LA TORRE MORENO | Z13: =+RELACION!B28 -> ANGELICA IBARRA PEREZ | AB13: =+RELACION!B89 -> GUSTAVO OCHOA CANTU | AE13: =+RELACION!B25 -> JUAN IGNACIO RODRIGYEZ VAZQUEZ | AG13: =+RELACION!B101 -> JESUS PEÑA PEÑA
M14: =+RELACION!B9 -> ARACELY GONZALEZ GARZA | V14: =+RELACION!C53 -> RECEPCION | Z14: =+RELACION!B29 -> BRENDA CECILIA RODRIGUEZ MARTINEZ
V15: =+RELACION!B53 -> LIZBETH GARZA LOPEZ | Z15: =+RELACION!B30 -> ELVIA IRASEMA BALDERAS CRUZ
Z16: =+RELACION!B31 -> ESMERALDA GARZA PEÑA
E18: =+RELACION!C10 -> PRESIDENTA DEL DIF MUNICIPAL
E19: =+RELACION!B10 -> MAYRA LOPEZ HERNANDEZ
E21: =+RELACION!C11 -> DIRECCION DEL DIF MUNICIPAL | H21: =+RELACION!C16 -> DOCTORA DE CLINICA MUNICIPAL
E22: =+RELACION!B11 -> CARMEN JUDITH VAZQUEZ RODRIGUEZ | H22: =+RELACION!B16 -> MARIA NANCY CARDENAS ALVARADO
K23: =+RELACION!C34 -> DIRECCION DE FINANZAS Y TESORERIA MUNICIPAL | M23: =+RELACION!C41 -> DIRECCION DE SINDICATURA | O23: =+RELACION!C45 -> CORDINADOR DE LA UNIDAD DE TRASPARENCIA | R23: =+RELACION!C44 -> DIRECCION DE CONTRALORIA | T23: =+RELACION!C48 -> DIRECCION DE DESARROLLO SOCIAL | V23: =+RELACION!C50 -> DIRECCION JURIDICA | X23: =+RELACION!C55 -> DIRECCION DE DESARROLLO RURAL | Z23: =+RELACION!C58 -> DIRECCION DE DEPORTES | AE23: =+RELACION!C60 -> DIRECCION DE EDUCACION, CULTURA Y EVENTOS | AJ23: =+RELACION!C64 -> DIRECCION DE OBRAS PUBLICAS | AR23: =+RELACION!C104 -> DIRECCION DE SEGURIDAD PUBLICA, TRANSITO Y VIALIDAD. | AX23: =+RELACION!C105 -> DIRECCION DE DESARROLLO URBANO Y ECOLOGIA
B24: =+RELACION!C12 -> CORDINADOR DE INST. DE LA JUVENTUD | H24: =+RELACION!C103 -> ENFERMERAS CLINICA | K24: =+RELACION!B34 -> BRENDA ELOISA SERRATO GARZA | M24: =+RELACION!B41 -> ANA KAREN GONZALEZ CARRILLO | O24: =+RELACION!B45 -> LUIS ALBERTO ACEVEDO MARTINEZ | R24: =+RELACION!B44 -> ARMANDO LOZANO GARZA | T24: =+RELACION!B48 -> ARMANDO GONZALEZ MENDEZ | V24: =+RELACION!B50 -> RAYMUNDO JOSE GUAJARDO GARZA | X24: =+RELACION!B55 -> JUAN ADALBERTO PADILLA GARZA | Z24: =+RELACION!B58 -> KARLA MARLEN GUZMAN GARCIA | AE24: =+RELACION!B60 -> NORA HILDA TORRES GAZCA | AJ24: =+RELACION!B64 -> FELIX MARTINEZ GARZA | AX24: =+RELACION!B105 -> LUIS FRANCISCO OCHOA PEREZ
B25: =+RELACION!B12 -> YAZMIN GUADALUPE TREJO MORENO | H25: =+RELACION!B103 -> CLAUDIA ELIZABETH CRUZ CORTEZ | AB25: =+RELACION!C63 -> COORDINADORA DE ECUCACION
K26: =+RELACION!C37 -> COORDINADORA DE NOMINA | M26: =+RELACION!C42 -> AUXILIAR TECNICO DE LA SINDICATURA | O26: =+RELACION!C46 -> AUXILIAR DE TRANSPARENCIA | R26: =+RELACION!C47 -> SECRETARIA DE CONTRALORIA | T26: =+RELACION!C49 -> SECRETARIA DE DESARROLLO SOCIAL | X26: =+RELACION!C56 -> COOR. DE GANADERO | Z26: =+RELACION!C13 -> ENTRENADORA | AB26: =+RELACION!B63 -> CECILIA FLORES BUSTILLOS | AE26: =+RELACION!C61 -> APOYOS ESCOLARES | AM26: =+RELACION!C78 -> SUB DIRECTOR DE OBRAS PUBLICAS Y SERVICIOS PUBLICOS | AR26: =+RELACION!#REF! -> #REF! | AT26: =+RELACION!#REF! -> #REF! | AV26: =+RELACION!C33 -> COOR. DE UNIDAD DE RESCATE
B27: =+RELACION!C14 -> AUX DIF | H27: =+RELACION!C17 -> SECRETARIA DE CLINICA MUNICIPAL | K27: =+RELACION!B37 -> MARIA LUISA RODRIGUEZ GONZALEZ | M27: =+RELACION!B42 -> JULIO CESAR CORTEZ RIOS | O27: =+RELACION!B46 -> MIGUEL ANGEL CORTEZ URBINA | R27: =+RELACION!B47 -> ERIKA MARLEN OCHOA BUSTILLOS | T27: =+RELACION!B49 -> DANIELA MARISOL GARCIA CANTU | X27: =+RELACION!B56 -> VICTOR MANUEL BORJAS GALINDO | Z27: =+RELACION!B13 -> YASMIN RODRIGUEZ CERDA | AE27: =+RELACION!B61 -> ARELY GUADALUPE LOPEZ PADILLA | AM27: =+RELACION!B78 -> ARSENIO CANTU PEREZ | AV27: =+RELACION!B33 -> NICOLAS CRUZ GONZALEZ
B28: =+RELACION!B14 -> MARIA CASTILLO PEÑA | E28: =+RELACION!C18 -> SECRETARIAS DIF | H28: =+RELACION!B17 -> DANIELA SARAHY GUAJARDO DE LA ROSA | AE28: =+RELACION!B62 -> BLANCA NELY RIOS PEREZ
B29: =+RELACION!B15 -> YESSICA MARISOL GARCIA MARTINEZ | E29: =+RELACION!B18 -> VERONICA YAMILETH TREVIÑO REYES | K29: =+RELACION!C36 -> COORDINADOR DE EGRESOS | AG29: =+RELACION!C66 -> COOR. PROYECTOS ESTRATEGICOS | AJ29: =+RELACION!C67 -> AUXILIAR DE OBRAS PUBLICAS | AM29: =+RELACION!C94 -> ENCARGADO DE CUADRILLAS
H30: =+RELACION!C102 -> SECRETARIA FARMACIA | K30: =+RELACION!B36 -> ROMAN VALENTIN GONZALEZ CERDA | AG30: =+RELACION!B66 -> MIGUEL ANGEL MARTINEZ SALAZAR | AJ30: =+RELACION!B67 -> VICENTE CAPETILLO VALDEZ | AM30: =+RELACION!B94 -> RENE RICARDO GARCIA GONZALEZ
E31: =+RELACION!C19 -> CHOFERES DIF | H31: =+RELACION!B102 -> YAZMIN AZANEETH GARZA FLORES
E32: =+RELACION!B19 -> JOSE ARMANDO LOPEZ RIVAS | K32: =+RELACION!C35 -> COORDINADOR DE INGRESOS | AJ32: =+RELACION!C68 -> SECRETARIO DE OB. PUBLICAS | AM32: =+RELACION!C99 -> CUADRILLA
E33: =+RELACION!B20 -> ROBERTO RUIZ VELAZQUES | K33: =+RELACION!B35 -> JUAN CRUZ GONZALEZ | AJ33: =+RELACION!B68 -> CRUZ MARGARITO REYES PEREZ | AM33: =+RELACION!B99 -> JOSE LUZ CANTU RODRIGUEZ
AM34: =+RELACION!B90 -> JESUS HILARIO GONZALEZ CORTEZ
K35: =+RELACION!C38 -> SECRETARIA DE TESORERIA | AJ35: =+RELACION!C75 -> COORD. DE MECANICO | AM35: =+RELACION!B87 -> JOSE GUADALUPE PEÑA MARTINEZ
K36: =+RELACION!B38 -> MARIA HORTENCIA LOPEZ VALLEJO | AJ36: =+RELACION!B75 -> SIMON ZAMBRANO GONZALEZ | AM36: =+RELACION!B86 -> ROBERTO PEÑA RODRIGUEZ
K37: =+RELACION!B39 -> DEISY RODRIGUEZ CRUZ | AM37: =+RELACION!B80 -> JULIO CESAR TORRES MORENO
AJ38: =+RELACION!C73 -> ELECTRICO
K39: =+RELACION!C40 -> CHOFER ADQUISICIONES | AJ39: =+RELACION!B73 -> FRANCISCO JAVIER CONTRERAS MORA | AM39: =+RELACION!C72 -> CAMINOS, PLAZAS Y JARDINES
K40: =+RELACION!B40 -> SIMON PEDRO RIVERA GONZALEZ | AM40: =+RELACION!B72 -> NOE TORRES MORENO
AJ41: =+RELACION!C59 -> AUX MECANICO | AM41: =+RELACION!B92 -> RICARDO GARZA CARRILLO
AJ42: =+RELACION!B59 -> JOSUE ADBIEL RODRIGUEZ CRUZ | AM42: =+RELACION!B93 -> FIDEL ORTIZ
AM43: =+RELACION!B95 -> RUBEN GARZA GONZALEZ
AJ44: =+RELACION!C70 -> CHOFERES DE MAQUINARIA | AM44: =+RELACION!B97 -> LUIS REYES OCHOA
AJ45: =+RELACION!B70 -> ERNESTINO ESCAMILLA MARTINEZ
AM46: =+RELACION!C85 -> CHOFER DE BASURA
AJ47: =+RELACION!C54 -> ENCARGADO DE DIESEL | AM47: =+RELACION!B85 -> MARCO ANTONIO VALENZUELA BAEZ
AJ48: =+RELACION!B54 -> EVER DE JESUS MIRELES VILLANUEVA
AM49: =+RELACION!C84 -> BASURA
AJ50: =+RELACION!C76 -> LLANTERO | AM50: =+RELACION!B84 -> JAZZIEL CANTU CORTEZ
AJ51: =+RELACION!B76 -> EDGAR ALEXIS GALVAN FLORES | AM51: =+RELACION!B83 -> ARTURO GONZALEZ ISLAS
AM52: =+RELACION!B69 -> EDGAR GUDALUPE CORTEZ CRUZ
AJ53: =+RELACION!C91 -> ENCARGADO DE TOMA DE AGUA RAMONES | AM53: =+RELACION!B65 -> JULIO CESAR GUILLEN GALVAN
AJ54: =+RELACION!B91 -> EVARISTO GARZA CANTU
AM55: =+RELACION!C96 -> MTTO DE EDIFICIOS
AJ56: =+RELACION!C79 -> PIPA | AM56: =+RELACION!B96 -> VICTOR HUGO GONZALEZ LOPEZ
AJ57: =+RELACION!B79 -> AURELIANO GARCIA PEREZ | AM57: =+RELACION!B71 -> JOSE LUIS DAVILA MARTINEZ
AM59: =+RELACION!C81 -> RASTRO
AM60: =+RELACION!B81 -> JUAN PEREZ GARZA
